BEGIN:VCALENDAR
PRODID:-//IONAS//TVM//DE
VERSION:2.0
CALSCALE:GREGORIAN
BEGIN:VTIMEZONE
TZID:Europe/Berlin
LAST-MODIFIED:20201010T011803Z
TZURL:http://tzurl.org/zoneinfo/Europe/Berlin
X-LIC-LOCATION:Europe/Berlin
X-PROLEPTIC-TZNAME:LMT
BEGIN:STANDARD
TZNAME:CET
TZOFFSETFROM:+005328
TZOFFSETTO:+0100
DTSTART:18930401T000000
END:STANDARD
BEGIN:DAYLIGHT
TZNAME:CEST
TZOFFSETFROM:+0100
TZOFFSETTO:+0200
DTSTART:19160430T230000
RDATE:19400401T020000
RDATE:19430329T020000
RDATE:19460414T020000
RDATE:19470406T030000
RDATE:19480418T020000
RDATE:19490410T020000
RDATE:19800406T020000
END:DAYLIGHT
BEGIN:STANDARD
TZNAME:CET
TZOFFSETFROM:+0200
TZOFFSETTO:+0100
DTSTART:19161001T010000
RDATE:19421102T030000
RDATE:19431004T030000
RDATE:19441002T030000
RDATE:19451118T030000
RDATE:19461007T030000
END:STANDARD
BEGIN:DAYLIGHT
TZNAME:CEST
TZOFFSETFROM:+0100
TZOFFSETTO:+0200
DTSTART:19170416T020000
RRULE:FREQ=YEARLY;UNTIL=19180415T010000Z;BYMONTH=4;BYDAY=3MO
END:DAYLIGHT
BEGIN:STANDARD
TZNAME:CET
TZOFFSETFROM:+0200
TZOFFSETTO:+0100
DTSTART:19170917T030000
RRULE:FREQ=YEARLY;UNTIL=19180916T010000Z;BYMONTH=9;BYDAY=3MO
END:STANDARD
BEGIN:DAYLIGHT
TZNAME:CEST
TZOFFSETFROM:+0100
TZOFFSETTO:+0200
DTSTART:19440403T020000
RRULE:FREQ=YEARLY;UNTIL=19450402T010000Z;BYMONTH=4;BYDAY=1MO
END:DAYLIGHT
BEGIN:DAYLIGHT
TZNAME:CEMT
TZOFFSETFROM:+0200
TZOFFSETTO:+0300
DTSTART:19450524T020000
RDATE:19470511T030000
END:DAYLIGHT
BEGIN:DAYLIGHT
TZNAME:CEST
TZOFFSETFROM:+0300
TZOFFSETTO:+0200
DTSTART:19450924T030000
RDATE:19470629T030000
END:DAYLIGHT
BEGIN:STANDARD
TZNAME:CET
TZOFFSETFROM:+0100
TZOFFSETTO:+0100
DTSTART:19460101T000000
RDATE:19800101T000000
END:STANDARD
BEGIN:STANDARD
TZNAME:CET
TZOFFSETFROM:+0200
TZOFFSETTO:+0100
DTSTART:19471005T030000
RRULE:FREQ=YEARLY;UNTIL=19491002T010000Z;BYMONTH=10;BYDAY=1SU
END:STANDARD
BEGIN:STANDARD
TZNAME:CET
TZOFFSETFROM:+0200
TZOFFSETTO:+0100
DTSTART:19800928T030000
RRULE:FREQ=YEARLY;UNTIL=19950924T010000Z;BYMONTH=9;BYDAY=-1SU
END:STANDARD
BEGIN:DAYLIGHT
TZNAME:CEST
TZOFFSETFROM:+0100
TZOFFSETTO:+0200
DTSTART:19810329T020000
RRULE:FREQ=YEARLY;BYMONTH=3;BYDAY=-1SU
END:DAYLIGHT
BEGIN:STANDARD
TZNAME:CET
TZOFFSETFROM:+0200
TZOFFSETTO:+0100
DTSTART:19961027T030000
RRULE:FREQ=YEARLY;BYMONTH=10;BYDAY=-1SU
END:STANDARD
END:VTIMEZONE
BEGIN:VEVENT
DTSTAMP:20260420T192001Z
DTSTART;TZID=Europe/Berlin:20260511T140000
DTEND;TZID=Europe/Berlin:20260511T153000
SUMMARY:Webinar „Mittendrin und gut versorgt“ – Save the Date
CREATED:20260420T151730Z
LAST-MODIFIED:20260420T152327Z
DESCRIPTION:Der Deutsche Städte- und Gemeindebund (DStGB) führt in Kooper
 ation mit Lidl seit einigen Jahren eine Initiative zu vielfältigen Theme
 n rund um die Nahversorgung in Kommunen durch. \n\nNach bereits fünf Reg
 ionalkonferenzen in Nordrhein-Westfalen\, Mecklenburg-Vorpommern\, Hesse
 n und Rheinland-Pfalz\, wird die nächste Veranstaltung der Initiative al
 s Webinar stattfinden. Dabei wird es unter dem Titel “Von der „Öko-Nisch
 e“ zum innovativen Marktvorteil: Nachhaltige Lösungen für die Gewerbeimm
 obilie von morgen”  insbesondere um Kreislaufwirtschaft und preisgekrönt
 e Gewerbeimmobilien gehen. \n\nNach einer allgemeinen Einführung in das 
 Thema wird mittels verschiedener Impulse und anhand von kommunalen Praxi
 sbeispielen veranschaulicht\, wie nachhaltiges Bauen in den Bereichen Ei
 nzelhandel und Gewerbe Mehrwerte für Kommunen\, Investoren und die Gesel
 lschaft schafft sowie langfristige Standortvorteile sichert.\n\nAnmeldun
 gen können unter: https://www.lyyti.in/webinar-226 erfolgen. 
URL:https://www.lyyti.in/webinar-226
X-IONAS-CATEGORY:Online
CATEGORIES:Online
ATTACH;FMTTYPE=image/jpeg;X-COPYRIGHT=Petair - Fotolia.com:https://www.ds
 tgb.de/medien/bilder/adobe-stock/staedte-gemeinden-antraege/fotolia-6447
 8546-petair-fotolia.com.jpg?cid=s.bw7
UID:52520ed2-14fb-4a0f-ad11-4dcd3e94e9e2:2026-05-11
END:VEVENT
END:VCALENDAR
